BEGIN:VCALENDAR
VERSION:2.0
PRODID:DPCALENDAR
CALSCALE:GREGORIAN
BEGIN:VTIMEZONE
TZID:Europe/Berlin
X-MICROSOFT-CDO-TZID:4
BEGIN:STANDARD
DTSTART:20251026T010000
TZOFFSETFROM:+0200
TZOFFSETTO:+0100
TZNAME:CET
END:STANDARD
BEGIN:STANDARD
DTSTART:20261025T010000
TZOFFSETFROM:+0200
TZOFFSETTO:+0100
TZNAME:CET
END:STANDARD
BEGIN:DAYLIGHT
DTSTART:20260329T010000
TZOFFSETFROM:+0100
TZOFFSETTO:+0200
TZNAME:CEST
END:DAYLIGHT
END:VTIMEZONE
X-WR-TIMEZONE:Europe/Berlin
BEGIN:VEVENT
DTSTART;TZID=Europe/Berlin:20241030T193000
DTEND;TZID=Europe/Berlin:20241030T211500
UID:E0B0C0A7-EA8A-4523-AF2B-7350B1F8B8C6
SUMMARY:Kreispokal Viertelfinale: SV Rothemühle - SV 04 Attendorn
CREATED:20241010T081231Z
DTSTAMP:20241010T081231Z
URL:https://sv-rothemuehle.de/index.php/veranstaltungen/termine-platzbelegung/kreispokal-viertelfinale-sv-rothemuehle-sv-04-attendorn
LAST-MODIFIED:20241010T081231Z
SEQUENCE:0
X-ACCESS:1
X-HITS:42
X-COLOR:3366cc
X-SHOW-END-TIME:0
END:VEVENT
BEGIN:VEVENT
DTSTART;TZID=Europe/Berlin:20241221T190000
DTEND;TZID=Europe/Berlin:20241221T200000
UID:853F7C5E-B953-47A5-84EA-D0757734569F
SUMMARY:Weihnachtsfeier SV Rothemühle im DGH Heid
CREATED:20241010T130839Z
DTSTAMP:20241010T130839Z
URL:https://sv-rothemuehle.de/index.php/veranstaltungen/termine-platzbelegung/weihnachtsfeier-sv-rothemuehle-im-dgh-heid
LAST-MODIFIED:20241010T130939Z
SEQUENCE:60
X-ACCESS:1
X-HITS:347
X-COLOR:3366cc
X-SHOW-END-TIME:0
END:VEVENT
END:VCALENDAR